BEGIN:VCALENDAR
VERSION:2.0
PRODID:-//lincolnikes.com//NONSGML kigkonsult.se iCalcreator 2.30.10//
CALSCALE:GREGORIAN
METHOD:PUBLISH
UID:4aba16af-1fb2-4cd3-9eab-c5cb824eadc2
X-WR-CALDESC:
X-WR-RELCALID:28862147e799202d25f11d1125bd2de3
X-WR-TIMEZONE:America/Chicago
BEGIN:VTIMEZONE
TZID:America/Chicago
BEGIN:STANDARD
TZNAME:CST
DTSTART:20231105T020000
TZOFFSETFROM:-0500
TZOFFSETTO:-0600
RDATE:20241103T020000
RDATE:20251102T020000
END:STANDARD
BEGIN:DAYLIGHT
TZNAME:CDT
DTSTART:20240310T020000
TZOFFSETFROM:-0600
TZOFFSETTO:-0500
RDATE:20250309T020000
RDATE:20260308T020000
END:DAYLIGHT
END:VTIMEZONE
BEGIN:VEVENT
UID:c33c2019-d988-4a78-983b-b3cc170a4fc7
DTSTAMP:20260422T124707Z
DESCRIPTION:
DTSTART;TZID=America/Chicago:20241031T170000
DTEND;TZID=America/Chicago:20241031T190000
LOCATION:Lincoln Ikes Clubhouse & Traps 4-7
SUMMARY:Southside Trap Team Practice (Clubhouse & Traps 4-7) (Lyons)
END:VEVENT
END:VCALENDAR
