BEGIN:VCALENDAR
VERSION:2.0
PRODID:-//lincolnikes.com//NONSGML kigkonsult.se iCalcreator 2.30.10//
CALSCALE:GREGORIAN
METHOD:PUBLISH
UID:7e6cf938-ba36-4ad6-aa50-39af652481e6
X-WR-CALDESC:
X-WR-RELCALID:733f129a770510e4666d0ae889d9fefa
X-WR-TIMEZONE:America/Chicago
BEGIN:VTIMEZONE
TZID:America/Chicago
BEGIN:STANDARD
TZNAME:CST
DTSTART:20241103T020000
TZOFFSETFROM:-0500
TZOFFSETTO:-0600
RDATE:20251102T020000
END:STANDARD
BEGIN:DAYLIGHT
TZNAME:CDT
DTSTART:20240310T020000
TZOFFSETFROM:-0600
TZOFFSETTO:-0500
RDATE:20250309T020000
RDATE:20260308T020000
END:DAYLIGHT
END:VTIMEZONE
BEGIN:VEVENT
UID:13724a29-4eab-468d-aa62-fb037a7b69ee
DTSTAMP:20260420T025027Z
DESCRIPTION:
DTSTART;TZID=America/Chicago:20241107T170000
DTEND;TZID=America/Chicago:20241107T190000
LOCATION:Lincoln Ikes Clubhouse & Traps 4-7
SUMMARY:Southside Trap Team Practice (Clubhouse & Traps 4-7) (Lyons)
END:VEVENT
END:VCALENDAR
