BEGIN:VCALENDAR
VERSION:2.0
PRODID:-//lincolnikes.com//NONSGML kigkonsult.se iCalcreator 2.30.10//
CALSCALE:GREGORIAN
METHOD:PUBLISH
UID:3377fdb0-6923-420f-b54c-0eb94e083642
X-WR-CALDESC:
X-WR-RELCALID:b51c1ec6399f39e01213ae90773a28e2
X-WR-TIMEZONE:America/Chicago
BEGIN:VTIMEZONE
TZID:America/Chicago
BEGIN:STANDARD
TZNAME:CST
DTSTART:20241103T020000
TZOFFSETFROM:-0500
TZOFFSETTO:-0600
RDATE:20251102T020000
END:STANDARD
BEGIN:DAYLIGHT
TZNAME:CDT
DTSTART:20240310T020000
TZOFFSETFROM:-0600
TZOFFSETTO:-0500
RDATE:20250309T020000
RDATE:20260308T020000
END:DAYLIGHT
END:VTIMEZONE
BEGIN:VEVENT
UID:bd5ec51c-db8d-4394-9352-f98374294e70
DTSTAMP:20260423T022532Z
DESCRIPTION:
DTSTART;TZID=America/Chicago:20241114T170000
DTEND;TZID=America/Chicago:20241114T190000
LOCATION:Lincoln Ikes Clubhouse & Traps 4-7
SUMMARY:Southside Trap Team Practice (Clubhouse & Traps 4-7) (Lyons)
END:VEVENT
END:VCALENDAR
