BEGIN:VCALENDAR
VERSION:2.0
PRODID:-//lincolnikes.com//NONSGML kigkonsult.se iCalcreator 2.30.10//
CALSCALE:GREGORIAN
METHOD:PUBLISH
UID:00dc76d9-c0e0-4501-b900-90204ff27552
X-WR-CALDESC:
X-WR-RELCALID:fc19ead1154d49499b30f0fb18d19470
X-WR-TIMEZONE:America/Chicago
BEGIN:VTIMEZONE
TZID:America/Chicago
BEGIN:STANDARD
TZNAME:CST
DTSTART:20251102T020000
TZOFFSETFROM:-0500
TZOFFSETTO:-0600
RDATE:20261101T020000
END:STANDARD
BEGIN:DAYLIGHT
TZNAME:CDT
DTSTART:20260308T020000
TZOFFSETFROM:-0600
TZOFFSETTO:-0500
RDATE:20270314T020000
END:DAYLIGHT
END:VTIMEZONE
BEGIN:VEVENT
UID:16be0dd6-c8ac-4d64-a38d-35b5f19f4060
DTSTAMP:20260422T002405Z
DESCRIPTION:
DTSTART;TZID=America/Chicago:20260402T160000
DTEND;TZID=America/Chicago:20260402T183000
LOCATION:Lincoln Ikes Traps & Clubhouse
SUMMARY:High School Trap Team Practice (Clubhouse & All Traps)
END:VEVENT
END:VCALENDAR
