BEGIN:VCALENDAR
VERSION:2.0
PRODID:-//lincolnikes.com//NONSGML kigkonsult.se iCalcreator 2.30.10//
CALSCALE:GREGORIAN
METHOD:PUBLISH
UID:178726e5-c992-4e3b-a3aa-5fe4224746cc
X-WR-CALDESC:Current trap members must bring in their LongRange trap cards 
 if they haven't already to get them updated so they work correctly.\n*Weat
 her permitting on each of these sessions. If we should have some inclement
  weather\, the session will be canceled. Feel free to call our office at 4
 02.474.6555 to verify.
X-WR-RELCALID:757b4b896588ad4aa1662ab4e1a4e2d0
X-WR-TIMEZONE:America/Chicago
BEGIN:VTIMEZONE
TZID:America/Chicago
BEGIN:STANDARD
TZNAME:CST
DTSTART:20251102T020000
TZOFFSETFROM:-0500
TZOFFSETTO:-0600
RDATE:20261101T020000
END:STANDARD
BEGIN:DAYLIGHT
TZNAME:CDT
DTSTART:20260308T020000
TZOFFSETFROM:-0600
TZOFFSETTO:-0500
RDATE:20270314T020000
END:DAYLIGHT
END:VTIMEZONE
BEGIN:VEVENT
UID:1638a053-2c3c-43dc-82c8-6d458783344d
DTSTAMP:20260422T002749Z
DESCRIPTION:Current trap members must bring in their LongRange trap cards i
 f they haven't already to get them updated so they work correctly.\n*Weath
 er permitting on each of these sessions. If we should have some inclement 
 weather\, the session will be canceled. Feel free to call our office at 40
 2.474.6555 to verify.
DTSTART;TZID=America/Chicago:20260416T090000
DTEND;TZID=America/Chicago:20260416T120000
LOCATION:Lincoln Ikes Clubhouse (back Dining area/Ballroom)
SUMMARY:2026 Trap Members LongRange Cards Update Session (check your email 
 & newsletter for more information)
END:VEVENT
END:VCALENDAR
