BEGIN:VCALENDAR
VERSION:2.0
PRODID:-//lincolnikes.com//NONSGML kigkonsult.se iCalcreator 2.30.10//
CALSCALE:GREGORIAN
METHOD:PUBLISH
UID:a5788b7d-2d59-4709-b7cd-4c2e258d9811
X-WR-CALDESC:
X-WR-RELCALID:82d3502d790e3b7b44abac576c4952fa
X-WR-TIMEZONE:America/Chicago
BEGIN:VTIMEZONE
TZID:America/Chicago
BEGIN:STANDARD
TZNAME:CST
DTSTART:20251102T020000
TZOFFSETFROM:-0500
TZOFFSETTO:-0600
RDATE:20261101T020000
END:STANDARD
BEGIN:DAYLIGHT
TZNAME:CDT
DTSTART:20260308T020000
TZOFFSETFROM:-0600
TZOFFSETTO:-0500
RDATE:20270314T020000
END:DAYLIGHT
END:VTIMEZONE
BEGIN:VEVENT
UID:62034fc1-2c64-4986-ab52-40653bd0dffb
DTSTAMP:20260424T105338Z
DESCRIPTION:
DTSTART;TZID=America/Chicago:20260426T143000
DTEND;TZID=America/Chicago:20260426T163000
LOCATION:Lincoln Ikes Traps 4-5
SUMMARY:High School Trap Team Practice (Traps 4-5)
END:VEVENT
END:VCALENDAR
