BEGIN:VCALENDAR
VERSION:2.0
PRODID:-//lincolnikes.com//NONSGML kigkonsult.se iCalcreator 2.30.10//
CALSCALE:GREGORIAN
METHOD:PUBLISH
UID:c2171785-ef2d-4271-9209-18255d903ee7
X-WR-CALDESC:
X-WR-RELCALID:b6d9057c1c67a510afb8c232dd9f7586
X-WR-TIMEZONE:America/Chicago
BEGIN:VTIMEZONE
TZID:America/Chicago
BEGIN:STANDARD
TZNAME:CST
DTSTART:20251102T020000
TZOFFSETFROM:-0500
TZOFFSETTO:-0600
RDATE:20261101T020000
END:STANDARD
BEGIN:DAYLIGHT
TZNAME:CDT
DTSTART:20260308T020000
TZOFFSETFROM:-0600
TZOFFSETTO:-0500
RDATE:20270314T020000
END:DAYLIGHT
END:VTIMEZONE
BEGIN:VEVENT
UID:c0346961-48b1-4803-b843-68ee09566b6b
DTSTAMP:20260423T231138Z
DESCRIPTION:
DTSTART;TZID=America/Chicago:20260427T150000
DTEND;TZID=America/Chicago:20260427T183000
LOCATION:Lincoln Ikes Traps & Clubhouse
SUMMARY:High School Trap Team Practice (Clubhouse & All Traps)
END:VEVENT
END:VCALENDAR
