BEGIN:VCALENDAR
VERSION:2.0
PRODID:-//lincolnikes.com//NONSGML kigkonsult.se iCalcreator 2.30.10//
CALSCALE:GREGORIAN
METHOD:PUBLISH
UID:b728b431-8371-4ef7-a99a-81a68caff3a0
X-WR-CALDESC:
X-WR-RELCALID:7f138075e7d46925d93f52db28938763
X-WR-TIMEZONE:America/Chicago
BEGIN:VTIMEZONE
TZID:America/Chicago
BEGIN:STANDARD
TZNAME:CST
DTSTART:20251102T020000
TZOFFSETFROM:-0500
TZOFFSETTO:-0600
RDATE:20261101T020000
END:STANDARD
BEGIN:DAYLIGHT
TZNAME:CDT
DTSTART:20260308T020000
TZOFFSETFROM:-0600
TZOFFSETTO:-0500
RDATE:20270314T020000
END:DAYLIGHT
END:VTIMEZONE
BEGIN:VEVENT
UID:a27152aa-2792-405e-9df1-0dc8c2649c85
DTSTAMP:20260424T092349Z
DESCRIPTION:
DTSTART;TZID=America/Chicago:20260428T160000
DTEND;TZID=America/Chicago:20260428T183000
LOCATION:Lincoln Ikes Traps & Clubhouse
SUMMARY:High School Trap Team Practice (Clubhouse & All Traps)
END:VEVENT
END:VCALENDAR
