BEGIN:VCALENDAR
VERSION:2.0
PRODID:-//lincolnikes.com//NONSGML kigkonsult.se iCalcreator 2.30.10//
CALSCALE:GREGORIAN
METHOD:PUBLISH
UID:f3b3a31d-827e-48c7-a16d-5439ceb1b78a
X-WR-CALDESC:
X-WR-RELCALID:df2721253b096fc5c45428f4df6751b8
X-WR-TIMEZONE:America/Chicago
BEGIN:VTIMEZONE
TZID:America/Chicago
BEGIN:STANDARD
TZNAME:CST
DTSTART:20251102T020000
TZOFFSETFROM:-0500
TZOFFSETTO:-0600
RDATE:20261101T020000
END:STANDARD
BEGIN:DAYLIGHT
TZNAME:CDT
DTSTART:20260308T020000
TZOFFSETFROM:-0600
TZOFFSETTO:-0500
RDATE:20270314T020000
END:DAYLIGHT
END:VTIMEZONE
BEGIN:VEVENT
UID:124c5490-3fd2-44ed-836e-3f3e8deec29f
DTSTAMP:20260420T225236Z
DESCRIPTION:
DTSTART;TZID=America/Chicago:20260507T180000
DTEND;TZID=America/Chicago:20260507T220000
LOCATION:10801 South 134th Street\, Bennet\, AL 68317 US
SUMMARY:Summer Trap League (All Traps & Clubhouse)
END:VEVENT
END:VCALENDAR
