BEGIN:VCALENDAR
VERSION:2.0
PRODID:-//lincolnikes.com//NONSGML kigkonsult.se iCalcreator 2.30.10//
CALSCALE:GREGORIAN
METHOD:PUBLISH
UID:de872a64-62f0-4b3d-b63f-2d1521dbd99c
X-WR-CALDESC:
X-WR-RELCALID:9a55cdcd4261af7b72fa5213612f3088
X-WR-TIMEZONE:America/Chicago
BEGIN:VTIMEZONE
TZID:America/Chicago
BEGIN:STANDARD
TZNAME:CST
DTSTART:20251102T020000
TZOFFSETFROM:-0500
TZOFFSETTO:-0600
RDATE:20261101T020000
RDATE:20271107T020000
END:STANDARD
BEGIN:DAYLIGHT
TZNAME:CDT
DTSTART:20260308T020000
TZOFFSETFROM:-0600
TZOFFSETTO:-0500
RDATE:20270314T020000
END:DAYLIGHT
END:VTIMEZONE
BEGIN:VEVENT
UID:7a9f0aba-5818-4505-96fc-4c784d440299
DTSTAMP:20260422T032533Z
DESCRIPTION:
DTSTART;TZID=America/Chicago:20260521T180000
DTEND;TZID=America/Chicago:20260521T220000
LOCATION:10801 South 134th Street\, Bennet\, AL 68317 US
SUMMARY:Summer Trap League (All Traps & Clubhouse)
END:VEVENT
END:VCALENDAR
