BEGIN:VCALENDAR
VERSION:2.0
PRODID:-//lincolnikes.com//NONSGML kigkonsult.se iCalcreator 2.30.10//
CALSCALE:GREGORIAN
METHOD:PUBLISH
UID:2054c6a7-cea8-45d3-a8f7-f180917b9f87
X-WR-CALDESC:
X-WR-RELCALID:63fefff675116256744e214ee8ce0789
X-WR-TIMEZONE:America/Chicago
BEGIN:VTIMEZONE
TZID:America/Chicago
BEGIN:STANDARD
TZNAME:CST
DTSTART:20231105T020000
TZOFFSETFROM:-0500
TZOFFSETTO:-0600
RDATE:20241103T020000
END:STANDARD
BEGIN:DAYLIGHT
TZNAME:CDT
DTSTART:20240310T020000
TZOFFSETFROM:-0600
TZOFFSETTO:-0500
RDATE:20250309T020000
END:DAYLIGHT
END:VTIMEZONE
BEGIN:VEVENT
UID:20dab5de-da73-41b4-95aa-f2347e379be5
DTSTAMP:20260424T191206Z
DESCRIPTION:
DTSTART;TZID=America/Chicago:20240402T173000
DTEND;TZID=America/Chicago:20240402T195000
LOCATION:Rifle Range 4
SUMMARY:Range 4 Members Practice (Bertram)
END:VEVENT
END:VCALENDAR
