BEGIN:VCALENDAR
VERSION:2.0
PRODID:-//lincolnikes.com//NONSGML kigkonsult.se iCalcreator 2.30.10//
CALSCALE:GREGORIAN
METHOD:PUBLISH
UID:071b2309-69a1-4d73-91ef-709c1565a8d3
X-WR-CALDESC:
X-WR-RELCALID:4a9bd67e5967ab36c8055d830fb73b8b
X-WR-TIMEZONE:America/Chicago
BEGIN:VTIMEZONE
TZID:America/Chicago
BEGIN:STANDARD
TZNAME:CST
DTSTART:20231105T020000
TZOFFSETFROM:-0500
TZOFFSETTO:-0600
RDATE:20241103T020000
END:STANDARD
BEGIN:DAYLIGHT
TZNAME:CDT
DTSTART:20240310T020000
TZOFFSETFROM:-0600
TZOFFSETTO:-0500
RDATE:20250309T020000
END:DAYLIGHT
END:VTIMEZONE
BEGIN:VEVENT
UID:d11e92cf-79e1-4f78-86e8-54cda3cad337
DTSTAMP:20260424T192738Z
DESCRIPTION:
DTSTART;TZID=America/Chicago:20240409T191500
DTEND;TZID=America/Chicago:20240409T211500
LOCATION:Lincoln Ikes Clubhouse
SUMMARY:Board of Directors Meeting (Clubhouse)
END:VEVENT
END:VCALENDAR
