BEGIN:VCALENDAR
VERSION:2.0
PRODID:-//lincolnikes.com//NONSGML kigkonsult.se iCalcreator 2.30.10//
CALSCALE:GREGORIAN
METHOD:PUBLISH
UID:a5d1eba4-8e84-4eed-810b-8ffcd017026a
X-WR-CALDESC:
X-WR-RELCALID:7a9ed5e7b4d86d31c73548647f9f39d6
X-WR-TIMEZONE:America/Chicago
BEGIN:VTIMEZONE
TZID:America/Chicago
BEGIN:STANDARD
TZNAME:CST
DTSTART:20231105T020000
TZOFFSETFROM:-0500
TZOFFSETTO:-0600
RDATE:20241103T020000
END:STANDARD
BEGIN:DAYLIGHT
TZNAME:CDT
DTSTART:20240310T020000
TZOFFSETFROM:-0600
TZOFFSETTO:-0500
RDATE:20250309T020000
END:DAYLIGHT
END:VTIMEZONE
BEGIN:VEVENT
UID:9fa9ea65-2881-42e1-8576-7356620d5474
DTSTAMP:20260424T191549Z
DESCRIPTION:
DTSTART;TZID=America/Chicago:20240413T090000
DTEND;TZID=America/Chicago:20240413T110000
LOCATION:Lincoln Ikes Rifle Range 4
SUMMARY:CMP Rimfire Sporter Rifle (Range 4)
END:VEVENT
END:VCALENDAR
