BEGIN:VCALENDAR
VERSION:2.0
PRODID:-//lincolnikes.com//NONSGML kigkonsult.se iCalcreator 2.30.10//
CALSCALE:GREGORIAN
METHOD:PUBLISH
UID:8d3ee4ec-dd4c-4cd7-80df-9deed5f0cac1
X-WR-CALDESC:
X-WR-RELCALID:47fdc88d41eaebeda181478e80473d65
X-WR-TIMEZONE:America/Chicago
BEGIN:VTIMEZONE
TZID:America/Chicago
BEGIN:STANDARD
TZNAME:CST
DTSTART:20231105T020000
TZOFFSETFROM:-0500
TZOFFSETTO:-0600
RDATE:20241103T020000
END:STANDARD
BEGIN:DAYLIGHT
TZNAME:CDT
DTSTART:20240310T020000
TZOFFSETFROM:-0600
TZOFFSETTO:-0500
RDATE:20250309T020000
END:DAYLIGHT
END:VTIMEZONE
BEGIN:VEVENT
UID:ea345994-ca77-43ac-ac82-b8666c9d1e69
DTSTAMP:20260424T191045Z
DESCRIPTION:
DTSTART;TZID=America/Chicago:20240420T050000
DTEND;TZID=America/Chicago:20240421T050001
LOCATION:Lincoln Ikes Rifle Range 1
SUMMARY:Project Appleseed (Range 1)
END:VEVENT
END:VCALENDAR
