BEGIN:VCALENDAR
VERSION:2.0
PRODID:-//lincolnikes.com//NONSGML kigkonsult.se iCalcreator 2.30.10//
CALSCALE:GREGORIAN
METHOD:PUBLISH
UID:1e1fdc55-a9bc-4a78-8ab8-196fe182bcc4
X-WR-CALDESC:
X-WR-RELCALID:4c9ae7b8c7bf77f540257c07a68e19ae
X-WR-TIMEZONE:America/Chicago
BEGIN:VTIMEZONE
TZID:America/Chicago
BEGIN:STANDARD
TZNAME:CST
DTSTART:20231105T020000
TZOFFSETFROM:-0500
TZOFFSETTO:-0600
RDATE:20241103T020000
END:STANDARD
BEGIN:DAYLIGHT
TZNAME:CDT
DTSTART:20240310T020000
TZOFFSETFROM:-0600
TZOFFSETTO:-0500
RDATE:20250309T020000
END:DAYLIGHT
END:VTIMEZONE
BEGIN:VEVENT
UID:611859f8-9564-48b3-be2d-61e4ae3b7103
DTSTAMP:20260424T191949Z
DESCRIPTION:
DTSTART;TZID=America/Chicago:20240421T080000
DTEND;TZID=America/Chicago:20240421T160000
LOCATION:Clubhouse or Rifle Range 4 (depending on weather)
SUMMARY:IHMSA Indoor Air Pistol Silhouettes (Clubhouse until noon) and IHMS
 A Handgun (Rifle Range 4 from 12noon - 4pm)
END:VEVENT
END:VCALENDAR
