BEGIN:VCALENDAR
VERSION:2.0
PRODID:-//lincolnikes.com//NONSGML kigkonsult.se iCalcreator 2.30.10//
CALSCALE:GREGORIAN
METHOD:PUBLISH
UID:919cc7e8-38d5-4d9c-b0b4-a1398023d631
X-WR-CALDESC:
X-WR-RELCALID:fd0d1a1f5bccb53be5a2e0b30e84c66c
X-WR-TIMEZONE:America/Chicago
BEGIN:VTIMEZONE
TZID:America/Chicago
BEGIN:STANDARD
TZNAME:CST
DTSTART:20231105T020000
TZOFFSETFROM:-0500
TZOFFSETTO:-0600
RDATE:20241103T020000
END:STANDARD
BEGIN:DAYLIGHT
TZNAME:CDT
DTSTART:20240310T020000
TZOFFSETFROM:-0600
TZOFFSETTO:-0500
RDATE:20250309T020000
END:DAYLIGHT
END:VTIMEZONE
BEGIN:VEVENT
UID:1d3ee62b-5e06-4eac-b8ae-cc1b1adf9c7e
DTSTAMP:20260424T191456Z
DESCRIPTION:
DTSTART;TZID=America/Chicago:20240427T050000
DTEND;TZID=America/Chicago:20240428T050001
LOCATION:Lincoln Ikes Rifle Range 4
SUMMARY:NBRSA HTR/VFS 2 Gun Benchrest Match (Range 4)
END:VEVENT
END:VCALENDAR
