BEGIN:VCALENDAR
VERSION:2.0
PRODID:-//lincolnikes.com//NONSGML kigkonsult.se iCalcreator 2.30.10//
CALSCALE:GREGORIAN
METHOD:PUBLISH
UID:0502504e-05d2-44ba-af38-2862c187b99f
X-WR-CALDESC:
X-WR-RELCALID:a80f9682cfd59725d057d299d9728fa7
X-WR-TIMEZONE:America/Chicago
BEGIN:VTIMEZONE
TZID:America/Chicago
BEGIN:STANDARD
TZNAME:CST
DTSTART:20231105T020000
TZOFFSETFROM:-0500
TZOFFSETTO:-0600
RDATE:20241103T020000
RDATE:20251102T020000
END:STANDARD
BEGIN:DAYLIGHT
TZNAME:CDT
DTSTART:20240310T020000
TZOFFSETFROM:-0600
TZOFFSETTO:-0500
RDATE:20250309T020000
END:DAYLIGHT
END:VTIMEZONE
BEGIN:VEVENT
UID:d921ed50-4d69-4c59-94cd-d4906bd0f55a
DTSTAMP:20260424T173935Z
DESCRIPTION:
DTSTART;TZID=America/Chicago:20240511T120000
DTEND;TZID=America/Chicago:20240511T170000
LOCATION:Lincoln Ikes Rifle Range 4
SUMMARY:Bowling Pin Match (Range 4)
END:VEVENT
END:VCALENDAR
