BEGIN:VCALENDAR
VERSION:2.0
PRODID:-//lincolnikes.com//NONSGML kigkonsult.se iCalcreator 2.30.10//
CALSCALE:GREGORIAN
METHOD:PUBLISH
UID:b0f8b9d8-f276-4e03-b446-dc9af24f7f97
X-WR-CALDESC:
X-WR-RELCALID:781555054e066af01d52a05dfc220578
X-WR-TIMEZONE:America/Chicago
BEGIN:VTIMEZONE
TZID:America/Chicago
BEGIN:STANDARD
TZNAME:CST
DTSTART:20231105T020000
TZOFFSETFROM:-0500
TZOFFSETTO:-0600
RDATE:20241103T020000
RDATE:20251102T020000
END:STANDARD
BEGIN:DAYLIGHT
TZNAME:CDT
DTSTART:20240310T020000
TZOFFSETFROM:-0600
TZOFFSETTO:-0500
RDATE:20250309T020000
END:DAYLIGHT
END:VTIMEZONE
BEGIN:VEVENT
UID:46c09cbf-9c00-4793-96c0-ebe1af5a8ebc
DTSTAMP:20260424T172343Z
DESCRIPTION:
DTSTART;TZID=America/Chicago:20240522T170000
DTEND;TZID=America/Chicago:20240522T190000
LOCATION:Rifle Range 4
SUMMARY:Rifle Range 4 Closed for Training Activity
END:VEVENT
END:VCALENDAR
