BEGIN:VCALENDAR
VERSION:2.0
PRODID:-//lincolnikes.com//NONSGML kigkonsult.se iCalcreator 2.30.10//
CALSCALE:GREGORIAN
METHOD:PUBLISH
UID:14669844-8e18-42b3-902b-25a35feabc02
X-WR-CALDESC:
X-WR-RELCALID:de6a89a6d6c489fce4c165352be59c93
X-WR-TIMEZONE:America/Chicago
BEGIN:VTIMEZONE
TZID:America/Chicago
BEGIN:STANDARD
TZNAME:CST
DTSTART:20231105T020000
TZOFFSETFROM:-0500
TZOFFSETTO:-0600
RDATE:20241103T020000
RDATE:20251102T020000
END:STANDARD
BEGIN:DAYLIGHT
TZNAME:CDT
DTSTART:20240310T020000
TZOFFSETFROM:-0600
TZOFFSETTO:-0500
RDATE:20250309T020000
END:DAYLIGHT
END:VTIMEZONE
BEGIN:VEVENT
UID:b6a143dd-7cda-447a-998d-8b4ae75b3a43
DTSTAMP:20260424T173317Z
DESCRIPTION:
DTSTART;TZID=America/Chicago:20240530T180000
DTEND;TZID=America/Chicago:20240530T200000
LOCATION:Lincoln Ikes Rifle Range 4
SUMMARY:Youth & Adult .22 Silhouette (Range 4)
END:VEVENT
END:VCALENDAR
