BEGIN:VCALENDAR
VERSION:2.0
PRODID:-//lincolnikes.com//NONSGML kigkonsult.se iCalcreator 2.30.10//
CALSCALE:GREGORIAN
METHOD:PUBLISH
UID:ad8266d7-36c6-48a4-9e1a-f24bfa73187b
X-WR-CALDESC:
X-WR-RELCALID:3b05151c1a2f6f4dc733db0f864ec57b
X-WR-TIMEZONE:America/Chicago
BEGIN:VTIMEZONE
TZID:America/Chicago
BEGIN:STANDARD
TZNAME:CST
DTSTART:20231105T020000
TZOFFSETFROM:-0500
TZOFFSETTO:-0600
RDATE:20241103T020000
RDATE:20251102T020000
END:STANDARD
BEGIN:DAYLIGHT
TZNAME:CDT
DTSTART:20240310T020000
TZOFFSETFROM:-0600
TZOFFSETTO:-0500
RDATE:20250309T020000
END:DAYLIGHT
END:VTIMEZONE
BEGIN:VEVENT
UID:08c40fb2-2050-4d39-8c92-032c3c60a7e4
DTSTAMP:20260424T155302Z
DESCRIPTION:
DTSTART;TZID=America/Chicago:20240601T050000
DTEND;TZID=America/Chicago:20240601T050001
LOCATION:Lincoln Ikes Rifle Range 4
SUMMARY:CANCELED DUE TO IOWA COMPETITION: Club Benchrest 300-Yard (Range 4)
END:VEVENT
END:VCALENDAR
