BEGIN:VCALENDAR
VERSION:2.0
PRODID:-//lincolnikes.com//NONSGML kigkonsult.se iCalcreator 2.30.10//
CALSCALE:GREGORIAN
METHOD:PUBLISH
UID:be82c1fa-9de3-4bc0-b0f2-7b838e9363d0
X-WR-CALDESC:
X-WR-RELCALID:b5af45d3d95c113accd867d382d25e3c
X-WR-TIMEZONE:America/Chicago
BEGIN:VTIMEZONE
TZID:America/Chicago
BEGIN:STANDARD
TZNAME:CST
DTSTART:20231105T020000
TZOFFSETFROM:-0500
TZOFFSETTO:-0600
RDATE:20241103T020000
RDATE:20251102T020000
END:STANDARD
BEGIN:DAYLIGHT
TZNAME:CDT
DTSTART:20240310T020000
TZOFFSETFROM:-0600
TZOFFSETTO:-0500
RDATE:20250309T020000
END:DAYLIGHT
END:VTIMEZONE
BEGIN:VEVENT
UID:ad15f14a-78c4-4953-bca4-087148c683c0
DTSTAMP:20260424T154703Z
DESCRIPTION:
DTSTART;TZID=America/Chicago:20240602T090000
DTEND;TZID=America/Chicago:20240602T130000
LOCATION:Lincoln Ikes Rifle Range 4
SUMMARY:Members 300-Yard Range Practice (Range 4)
END:VEVENT
END:VCALENDAR
