BEGIN:VCALENDAR
VERSION:2.0
PRODID:-//lincolnikes.com//NONSGML kigkonsult.se iCalcreator 2.30.10//
CALSCALE:GREGORIAN
METHOD:PUBLISH
UID:d7290e32-057d-4b24-9e63-93e91f0e1a80
X-WR-CALDESC:Please see our website or the flyer below for more details.
X-WR-RELCALID:1a1b972f8c898930933253a7df8bfaa1
X-WR-TIMEZONE:America/Chicago
BEGIN:VTIMEZONE
TZID:America/Chicago
BEGIN:STANDARD
TZNAME:CST
DTSTART:20231105T020000
TZOFFSETFROM:-0500
TZOFFSETTO:-0600
RDATE:20241103T020000
RDATE:20251102T020000
END:STANDARD
BEGIN:DAYLIGHT
TZNAME:CDT
DTSTART:20240310T020000
TZOFFSETFROM:-0600
TZOFFSETTO:-0500
RDATE:20250309T020000
END:DAYLIGHT
END:VTIMEZONE
BEGIN:VEVENT
UID:a3eacfb3-14b8-45ca-befe-fe2f8ac034fc
DTSTAMP:20260424T153955Z
DESCRIPTION:Please see our website or the flyer below for more details.
DTSTART;TZID=America/Chicago:20240603T180000
DTEND;TZID=America/Chicago:20240603T200000
LOCATION:Lincoln Ikes Trap Range & Clubhouse
SUMMARY:Summer Youth Trap League (Traps 2-5 & Clubhouse)
END:VEVENT
END:VCALENDAR
