BEGIN:VCALENDAR
VERSION:2.0
PRODID:-//lincolnikes.com//NONSGML kigkonsult.se iCalcreator 2.30.10//
CALSCALE:GREGORIAN
METHOD:PUBLISH
UID:ed11ca88-eecd-45d4-b2f6-b4457b5facb9
X-WR-CALDESC:
X-WR-RELCALID:12a4c3946340052c8bfe359fd81c83f3
X-WR-TIMEZONE:America/Chicago
BEGIN:VTIMEZONE
TZID:America/Chicago
BEGIN:STANDARD
TZNAME:CST
DTSTART:20231105T020000
TZOFFSETFROM:-0500
TZOFFSETTO:-0600
RDATE:20241103T020000
RDATE:20251102T020000
END:STANDARD
BEGIN:DAYLIGHT
TZNAME:CDT
DTSTART:20240310T020000
TZOFFSETFROM:-0600
TZOFFSETTO:-0500
RDATE:20250309T020000
END:DAYLIGHT
END:VTIMEZONE
BEGIN:VEVENT
UID:09001f15-1098-4831-b4ad-517aff3a26c7
DTSTAMP:20260424T154919Z
DESCRIPTION:
DTSTART;TZID=America/Chicago:20240608T120000
DTEND;TZID=America/Chicago:20240608T170000
LOCATION:Lincoln Ikes Rifle Range 2
SUMMARY:Bowling Pin Match (Range 2)
END:VEVENT
END:VCALENDAR
