BEGIN:VCALENDAR
VERSION:2.0
PRODID:-//lincolnikes.com//NONSGML kigkonsult.se iCalcreator 2.30.10//
CALSCALE:GREGORIAN
METHOD:PUBLISH
UID:3836fc62-52af-45f4-a543-923d9f54f6f1
X-WR-CALDESC:
X-WR-RELCALID:cb4aeaad3cc02d8f15b4473bb61fe087
X-WR-TIMEZONE:America/Chicago
BEGIN:VTIMEZONE
TZID:America/Chicago
BEGIN:STANDARD
TZNAME:CST
DTSTART:20231105T020000
TZOFFSETFROM:-0500
TZOFFSETTO:-0600
RDATE:20241103T020000
RDATE:20251102T020000
END:STANDARD
BEGIN:DAYLIGHT
TZNAME:CDT
DTSTART:20240310T020000
TZOFFSETFROM:-0600
TZOFFSETTO:-0500
RDATE:20250309T020000
END:DAYLIGHT
END:VTIMEZONE
BEGIN:VEVENT
UID:08eb34e8-e67b-490c-9de8-29456d6a67e5
DTSTAMP:20260424T153638Z
DESCRIPTION:
DTSTART;TZID=America/Chicago:20240613T180000
DTEND;TZID=America/Chicago:20240613T200000
LOCATION:Lincoln Ikes Rifle Range 4
SUMMARY:Youth & Adult .22 Silhouette (Range 4)
END:VEVENT
END:VCALENDAR
