BEGIN:VCALENDAR
VERSION:2.0
PRODID:-//lincolnikes.com//NONSGML kigkonsult.se iCalcreator 2.30.10//
CALSCALE:GREGORIAN
METHOD:PUBLISH
UID:c73335c0-1bf2-4e01-8fcf-dba3c549c09f
X-WR-CALDESC:
X-WR-RELCALID:5725d10d79755d115c028b18de196403
X-WR-TIMEZONE:America/Chicago
BEGIN:VTIMEZONE
TZID:America/Chicago
BEGIN:STANDARD
TZNAME:CST
DTSTART:20231105T020000
TZOFFSETFROM:-0500
TZOFFSETTO:-0600
RDATE:20241103T020000
RDATE:20251102T020000
END:STANDARD
BEGIN:DAYLIGHT
TZNAME:CDT
DTSTART:20240310T020000
TZOFFSETFROM:-0600
TZOFFSETTO:-0500
RDATE:20250309T020000
END:DAYLIGHT
END:VTIMEZONE
BEGIN:VEVENT
UID:5aee4a98-4075-472c-ada7-7ef9c4af49e1
DTSTAMP:20260424T155257Z
DESCRIPTION:
DTSTART;TZID=America/Chicago:20240615T050000
DTEND;TZID=America/Chicago:20240615T050001
LOCATION:10801 South 134th Street\, Bennet\, NE 68317 US
SUMMARY:ATA Trap Shoot (Clubhouse & All Traps)
END:VEVENT
END:VCALENDAR
