BEGIN:VCALENDAR
VERSION:2.0
PRODID:-//lincolnikes.com//NONSGML kigkonsult.se iCalcreator 2.30.10//
CALSCALE:GREGORIAN
METHOD:PUBLISH
UID:b063498e-f133-4799-ad2f-59e2d3f6fa99
X-WR-CALDESC:
X-WR-RELCALID:41288b5e99d28adb1cae0156e44ad65a
X-WR-TIMEZONE:America/Chicago
BEGIN:VTIMEZONE
TZID:America/Chicago
BEGIN:STANDARD
TZNAME:CST
DTSTART:20231105T020000
TZOFFSETFROM:-0500
TZOFFSETTO:-0600
RDATE:20241103T020000
RDATE:20251102T020000
END:STANDARD
BEGIN:DAYLIGHT
TZNAME:CDT
DTSTART:20240310T020000
TZOFFSETFROM:-0600
TZOFFSETTO:-0500
RDATE:20250309T020000
END:DAYLIGHT
END:VTIMEZONE
BEGIN:VEVENT
UID:08274117-e266-4c53-a98c-264385905bb4
DTSTAMP:20260424T153858Z
DESCRIPTION:
DTSTART;TZID=America/Chicago:20240616T080000
DTEND;TZID=America/Chicago:20240616T130000
LOCATION:Lincoln Ikes Rifle Range 4
SUMMARY:IHMSA Handgun Match (Range 4)
END:VEVENT
END:VCALENDAR
