BEGIN:VCALENDAR
VERSION:2.0
PRODID:-//lincolnikes.com//NONSGML kigkonsult.se iCalcreator 2.30.10//
CALSCALE:GREGORIAN
METHOD:PUBLISH
UID:b3a844ca-bca7-4c8f-8775-8be59dff7d59
X-WR-CALDESC:
X-WR-RELCALID:1fc619c62da086f4eb328f52371257aa
X-WR-TIMEZONE:America/Chicago
BEGIN:VTIMEZONE
TZID:America/Chicago
BEGIN:STANDARD
TZNAME:CST
DTSTART:20231105T020000
TZOFFSETFROM:-0500
TZOFFSETTO:-0600
RDATE:20241103T020000
RDATE:20251102T020000
END:STANDARD
BEGIN:DAYLIGHT
TZNAME:CDT
DTSTART:20240310T020000
TZOFFSETFROM:-0600
TZOFFSETTO:-0500
RDATE:20250309T020000
END:DAYLIGHT
END:VTIMEZONE
BEGIN:VEVENT
UID:96a28e9b-452e-4b56-92ea-17d8d3cf2d65
DTSTAMP:20260424T154148Z
DESCRIPTION:
DTSTART;TZID=America/Chicago:20240623T080000
DTEND;TZID=America/Chicago:20240623T170000
LOCATION:10801 South 134th Street\, Bennet\, NE 68317 US
SUMMARY:Archery Fun Day (near Youth Pond)
END:VEVENT
END:VCALENDAR
