BEGIN:VCALENDAR
VERSION:2.0
PRODID:-//lincolnikes.com//NONSGML kigkonsult.se iCalcreator 2.30.10//
CALSCALE:GREGORIAN
METHOD:PUBLISH
UID:dd0850e4-ed4d-4d8e-b0cb-bd0072d03471
X-WR-CALDESC:Please see our website or the flyer below for more details.
X-WR-RELCALID:6c3a92d92ef217433905a1328194eb44
X-WR-TIMEZONE:America/Chicago
BEGIN:VTIMEZONE
TZID:America/Chicago
BEGIN:STANDARD
TZNAME:CST
DTSTART:20231105T020000
TZOFFSETFROM:-0500
TZOFFSETTO:-0600
RDATE:20241103T020000
RDATE:20251102T020000
END:STANDARD
BEGIN:DAYLIGHT
TZNAME:CDT
DTSTART:20240310T020000
TZOFFSETFROM:-0600
TZOFFSETTO:-0500
RDATE:20250309T020000
END:DAYLIGHT
END:VTIMEZONE
BEGIN:VEVENT
UID:0504579a-0671-4a4a-9616-550494121578
DTSTAMP:20260424T153852Z
DESCRIPTION:Please see our website or the flyer below for more details.
DTSTART;TZID=America/Chicago:20240624T180000
DTEND;TZID=America/Chicago:20240624T200000
LOCATION:Lincoln Ikes Trap Range & Clubhouse
SUMMARY:Summer Youth Trap League (Traps 2-5 & Clubhouse)
END:VEVENT
END:VCALENDAR
