BEGIN:VCALENDAR
VERSION:2.0
PRODID:-//lincolnikes.com//NONSGML kigkonsult.se iCalcreator 2.30.10//
CALSCALE:GREGORIAN
METHOD:PUBLISH
UID:6c8d0c6c-6e38-4cfb-a6e5-2d5be4c7a3c0
X-WR-CALDESC:
X-WR-RELCALID:eb085a528d02a6b7c297d68cc67d4e6b
X-WR-TIMEZONE:America/Chicago
BEGIN:VTIMEZONE
TZID:America/Chicago
BEGIN:STANDARD
TZNAME:CST
DTSTART:20231105T020000
TZOFFSETFROM:-0500
TZOFFSETTO:-0600
RDATE:20241103T020000
RDATE:20251102T020000
END:STANDARD
BEGIN:DAYLIGHT
TZNAME:CDT
DTSTART:20240310T020000
TZOFFSETFROM:-0600
TZOFFSETTO:-0500
RDATE:20250309T020000
END:DAYLIGHT
END:VTIMEZONE
BEGIN:VEVENT
UID:c805d2e5-0cda-40ea-9339-da352c16d036
DTSTAMP:20260424T153659Z
DESCRIPTION:
DTSTART;TZID=America/Chicago:20240626T170000
DTEND;TZID=America/Chicago:20240626T190000
LOCATION:Rifle Range 4
SUMMARY:Rifle Range 4 Closed for Training Activity
END:VEVENT
END:VCALENDAR
