BEGIN:VCALENDAR
VERSION:2.0
PRODID:-//lincolnikes.com//NONSGML kigkonsult.se iCalcreator 2.30.10//
CALSCALE:GREGORIAN
METHOD:PUBLISH
UID:e20817f4-8342-4977-a404-f49c3442f6d6
X-WR-CALDESC:
X-WR-RELCALID:30998a1762e279814c9e208a16e3e2ff
X-WR-TIMEZONE:America/Chicago
BEGIN:VTIMEZONE
TZID:America/Chicago
BEGIN:STANDARD
TZNAME:CST
DTSTART:20231105T020000
TZOFFSETFROM:-0500
TZOFFSETTO:-0600
RDATE:20241103T020000
RDATE:20251102T020000
END:STANDARD
BEGIN:DAYLIGHT
TZNAME:CDT
DTSTART:20240310T020000
TZOFFSETFROM:-0600
TZOFFSETTO:-0500
RDATE:20250309T020000
END:DAYLIGHT
END:VTIMEZONE
BEGIN:VEVENT
UID:db4b7338-bc86-46b6-9875-77fe3dd67d9a
DTSTAMP:20260424T155603Z
DESCRIPTION:
DTSTART;TZID=America/Chicago:20240626T190000
DTEND;TZID=America/Chicago:20240626T200000
LOCATION:
SUMMARY:Rifle/Pistol Committee Meeting (Clubhouse - Lonkoski)
END:VEVENT
END:VCALENDAR
