BEGIN:VCALENDAR
VERSION:2.0
PRODID:-//lincolnikes.com//NONSGML kigkonsult.se iCalcreator 2.30.10//
CALSCALE:GREGORIAN
METHOD:PUBLISH
UID:195991ec-a63f-4661-b7c8-61cb1373dd47
X-WR-CALDESC:Please see our website or the flyer below for more details.
X-WR-RELCALID:fed78652f660cb9c3c89ef09fe30c488
X-WR-TIMEZONE:America/Chicago
BEGIN:VTIMEZONE
TZID:America/Chicago
BEGIN:STANDARD
TZNAME:CST
DTSTART:20231105T020000
TZOFFSETFROM:-0500
TZOFFSETTO:-0600
RDATE:20241103T020000
RDATE:20251102T020000
END:STANDARD
BEGIN:DAYLIGHT
TZNAME:CDT
DTSTART:20240310T020000
TZOFFSETFROM:-0600
TZOFFSETTO:-0500
RDATE:20250309T020000
END:DAYLIGHT
END:VTIMEZONE
BEGIN:VEVENT
UID:cdaddb9c-c231-4e33-abd1-e42b096ed2d2
DTSTAMP:20260424T141142Z
DESCRIPTION:Please see our website or the flyer below for more details.
DTSTART;TZID=America/Chicago:20240701T180000
DTEND;TZID=America/Chicago:20240701T200000
LOCATION:Lincoln Ikes Trap Range & Clubhouse
SUMMARY:Summer Youth Trap League (Traps 2-5 & Clubhouse)
END:VEVENT
END:VCALENDAR
