BEGIN:VCALENDAR
VERSION:2.0
PRODID:-//lincolnikes.com//NONSGML kigkonsult.se iCalcreator 2.30.10//
CALSCALE:GREGORIAN
METHOD:PUBLISH
UID:47f7ed71-d7bc-45a0-84ad-7577b27643a8
X-WR-CALDESC:
X-WR-RELCALID:3e8bae987667964e81895a0fb0b692e4
X-WR-TIMEZONE:America/Chicago
BEGIN:VTIMEZONE
TZID:America/Chicago
BEGIN:STANDARD
TZNAME:CST
DTSTART:20231105T020000
TZOFFSETFROM:-0500
TZOFFSETTO:-0600
RDATE:20241103T020000
RDATE:20251102T020000
END:STANDARD
BEGIN:DAYLIGHT
TZNAME:CDT
DTSTART:20240310T020000
TZOFFSETFROM:-0600
TZOFFSETTO:-0500
RDATE:20250309T020000
END:DAYLIGHT
END:VTIMEZONE
BEGIN:VEVENT
UID:4b6886af-5f27-46dc-901c-073c4595b70f
DTSTAMP:20260424T135120Z
DESCRIPTION:
DTSTART;TZID=America/Chicago:20240713T120000
DTEND;TZID=America/Chicago:20240713T170000
LOCATION:Lincoln Ikes Rifle Range 4
SUMMARY:Bowling Pin Match (Range 4)
END:VEVENT
END:VCALENDAR
