BEGIN:VCALENDAR
VERSION:2.0
PRODID:-//lincolnikes.com//NONSGML kigkonsult.se iCalcreator 2.30.10//
CALSCALE:GREGORIAN
METHOD:PUBLISH
UID:bc105b67-3f8e-4ddf-8631-0d04f0690271
X-WR-CALDESC:Please see our website or the flyer below for more details.
X-WR-RELCALID:923c690b237622c38570d92fa67483ca
X-WR-TIMEZONE:America/Chicago
BEGIN:VTIMEZONE
TZID:America/Chicago
BEGIN:STANDARD
TZNAME:CST
DTSTART:20231105T020000
TZOFFSETFROM:-0500
TZOFFSETTO:-0600
RDATE:20241103T020000
RDATE:20251102T020000
END:STANDARD
BEGIN:DAYLIGHT
TZNAME:CDT
DTSTART:20240310T020000
TZOFFSETFROM:-0600
TZOFFSETTO:-0500
RDATE:20250309T020000
END:DAYLIGHT
END:VTIMEZONE
BEGIN:VEVENT
UID:ba2c147c-6d4b-42b3-9eb9-3af794b64c34
DTSTAMP:20260424T141144Z
DESCRIPTION:Please see our website or the flyer below for more details.
DTSTART;TZID=America/Chicago:20240715T180000
DTEND;TZID=America/Chicago:20240715T200000
LOCATION:Lincoln Ikes Trap Range & Clubhouse
SUMMARY:Summer Youth Trap League (Traps 2-5 & Clubhouse)
END:VEVENT
END:VCALENDAR
