BEGIN:VCALENDAR
VERSION:2.0
PRODID:-//lincolnikes.com//NONSGML kigkonsult.se iCalcreator 2.30.10//
CALSCALE:GREGORIAN
METHOD:PUBLISH
UID:a6b9fbec-97b3-4eb4-80a8-fed291d46d4b
X-WR-CALDESC:
X-WR-RELCALID:3ddc3f77823d4ac36930d1ca08bbbfd6
X-WR-TIMEZONE:America/Chicago
BEGIN:VTIMEZONE
TZID:America/Chicago
BEGIN:STANDARD
TZNAME:CST
DTSTART:20231105T020000
TZOFFSETFROM:-0500
TZOFFSETTO:-0600
RDATE:20241103T020000
RDATE:20251102T020000
END:STANDARD
BEGIN:DAYLIGHT
TZNAME:CDT
DTSTART:20240310T020000
TZOFFSETFROM:-0600
TZOFFSETTO:-0500
RDATE:20250309T020000
END:DAYLIGHT
END:VTIMEZONE
BEGIN:VEVENT
UID:21e03ae5-0f91-4c96-9b9b-f2625080c9b4
DTSTAMP:20260424T135100Z
DESCRIPTION:
DTSTART;TZID=America/Chicago:20240717T170000
DTEND;TZID=America/Chicago:20240717T190000
LOCATION:Lincoln Ikes Rifle Range 4
SUMMARY:Rifle Range 4 Closed for Training Activity
END:VEVENT
END:VCALENDAR
