BEGIN:VCALENDAR
VERSION:2.0
PRODID:-//lincolnikes.com//NONSGML kigkonsult.se iCalcreator 2.30.10//
CALSCALE:GREGORIAN
METHOD:PUBLISH
UID:0d3378e4-b59c-410b-aa5e-4ad15caf6aa7
X-WR-CALDESC:
X-WR-RELCALID:f6c7cf085fd2056f5a89c720b347dc4b
X-WR-TIMEZONE:America/Chicago
BEGIN:VTIMEZONE
TZID:America/Chicago
BEGIN:STANDARD
TZNAME:CST
DTSTART:20231105T020000
TZOFFSETFROM:-0500
TZOFFSETTO:-0600
RDATE:20241103T020000
RDATE:20251102T020000
END:STANDARD
BEGIN:DAYLIGHT
TZNAME:CDT
DTSTART:20240310T020000
TZOFFSETFROM:-0600
TZOFFSETTO:-0500
RDATE:20250309T020000
END:DAYLIGHT
END:VTIMEZONE
BEGIN:VEVENT
UID:b3f743c9-dc95-4d6f-8057-e48288fd63df
DTSTAMP:20260424T135229Z
DESCRIPTION:
DTSTART;TZID=America/Chicago:20240721T050000
DTEND;TZID=America/Chicago:20240721T050001
LOCATION:Lincoln Ikes Clubhouse & Trap Range
SUMMARY:ATA Trap Shoot (Clubhouse & Trap Range)
END:VEVENT
END:VCALENDAR
