BEGIN:VCALENDAR
VERSION:2.0
PRODID:-//lincolnikes.com//NONSGML kigkonsult.se iCalcreator 2.30.10//
CALSCALE:GREGORIAN
METHOD:PUBLISH
UID:d785ca0c-14c5-4727-acfd-1b2a2a5cf37c
X-WR-CALDESC:
X-WR-RELCALID:be119db4dc85441dbf61b8159df732fc
X-WR-TIMEZONE:America/Chicago
BEGIN:VTIMEZONE
TZID:America/Chicago
BEGIN:STANDARD
TZNAME:CST
DTSTART:20231105T020000
TZOFFSETFROM:-0500
TZOFFSETTO:-0600
RDATE:20241103T020000
RDATE:20251102T020000
END:STANDARD
BEGIN:DAYLIGHT
TZNAME:CDT
DTSTART:20240310T020000
TZOFFSETFROM:-0600
TZOFFSETTO:-0500
RDATE:20250309T020000
END:DAYLIGHT
END:VTIMEZONE
BEGIN:VEVENT
UID:78476901-b981-41b0-8974-5020e0ec150c
DTSTAMP:20260424T134935Z
DESCRIPTION:
DTSTART;TZID=America/Chicago:20240723T170000
DTEND;TZID=America/Chicago:20240723T190000
LOCATION:Lincoln Ikes Rifle Range 4
SUMMARY:Rifle Range 4 Closed for Training Activity
END:VEVENT
END:VCALENDAR
