BEGIN:VCALENDAR
VERSION:2.0
PRODID:-//lincolnikes.com//NONSGML kigkonsult.se iCalcreator 2.30.10//
CALSCALE:GREGORIAN
METHOD:PUBLISH
UID:8deb160d-8c93-4cbf-88cd-cdabe4c96d02
X-WR-CALDESC:
X-WR-RELCALID:d7142a69d3f363acbc6b540615b47865
X-WR-TIMEZONE:America/Chicago
BEGIN:VTIMEZONE
TZID:America/Chicago
BEGIN:STANDARD
TZNAME:CST
DTSTART:20231105T020000
TZOFFSETFROM:-0500
TZOFFSETTO:-0600
RDATE:20241103T020000
RDATE:20251102T020000
END:STANDARD
BEGIN:DAYLIGHT
TZNAME:CDT
DTSTART:20240310T020000
TZOFFSETFROM:-0600
TZOFFSETTO:-0500
RDATE:20250309T020000
END:DAYLIGHT
END:VTIMEZONE
BEGIN:VEVENT
UID:133d3a67-2ea3-4d36-b703-f692fa758b09
DTSTAMP:20260424T123541Z
DESCRIPTION:
DTSTART;TZID=America/Chicago:20240801T180000
DTEND;TZID=America/Chicago:20240801T200000
LOCATION:Lincoln Ikes Rifle Range 4
SUMMARY:Youth & Adult .22 Silhouette (Range 4)
END:VEVENT
END:VCALENDAR
