BEGIN:VCALENDAR
VERSION:2.0
PRODID:-//lincolnikes.com//NONSGML kigkonsult.se iCalcreator 2.30.10//
CALSCALE:GREGORIAN
METHOD:PUBLISH
UID:653e5a2e-14cb-4036-a7f1-07a99032bdf3
X-WR-CALDESC:
X-WR-RELCALID:fcbc2bd2bbda404e12dd189d1734266c
X-WR-TIMEZONE:America/Chicago
BEGIN:VTIMEZONE
TZID:America/Chicago
BEGIN:STANDARD
TZNAME:CST
DTSTART:20231105T020000
TZOFFSETFROM:-0500
TZOFFSETTO:-0600
RDATE:20241103T020000
RDATE:20251102T020000
END:STANDARD
BEGIN:DAYLIGHT
TZNAME:CDT
DTSTART:20240310T020000
TZOFFSETFROM:-0600
TZOFFSETTO:-0500
RDATE:20250309T020000
END:DAYLIGHT
END:VTIMEZONE
BEGIN:VEVENT
UID:2f2d81fa-e207-4b98-a048-5769b1afa364
DTSTAMP:20260424T121525Z
DESCRIPTION:
DTSTART;TZID=America/Chicago:20240804T090000
DTEND;TZID=America/Chicago:20240804T130000
LOCATION:Lincoln Ikes Rifle Range 4
SUMMARY:Members 300-Yard Range Practice (Range 4)
END:VEVENT
END:VCALENDAR
