BEGIN:VCALENDAR
VERSION:2.0
PRODID:-//lincolnikes.com//NONSGML kigkonsult.se iCalcreator 2.30.10//
CALSCALE:GREGORIAN
METHOD:PUBLISH
UID:847f30f3-6d75-4a19-8437-f40fcdffbf5a
X-WR-CALDESC:
X-WR-RELCALID:aec3743730096f750d05a3136ff137f5
X-WR-TIMEZONE:America/Chicago
BEGIN:VTIMEZONE
TZID:America/Chicago
BEGIN:STANDARD
TZNAME:CST
DTSTART:20231105T020000
TZOFFSETFROM:-0500
TZOFFSETTO:-0600
RDATE:20241103T020000
RDATE:20251102T020000
END:STANDARD
BEGIN:DAYLIGHT
TZNAME:CDT
DTSTART:20240310T020000
TZOFFSETFROM:-0600
TZOFFSETTO:-0500
RDATE:20250309T020000
END:DAYLIGHT
END:VTIMEZONE
BEGIN:VEVENT
UID:f3653b02-26bf-4d39-8f42-928e9f33df92
DTSTAMP:20260424T121924Z
DESCRIPTION:
DTSTART;TZID=America/Chicago:20240815T050000
DTEND;TZID=America/Chicago:20240818T050001
LOCATION:Lincoln Ikes Rifle Range 4
SUMMARY:Nebraska State IHMSA Match (Range 4)
END:VEVENT
END:VCALENDAR
