BEGIN:VCALENDAR
VERSION:2.0
PRODID:-//lincolnikes.com//NONSGML kigkonsult.se iCalcreator 2.30.10//
CALSCALE:GREGORIAN
METHOD:PUBLISH
UID:9e358001-d58f-4986-acf9-6c74623364b1
X-WR-CALDESC:
X-WR-RELCALID:9400b5b92b15bab438a5cb7abc59eff9
X-WR-TIMEZONE:America/Chicago
BEGIN:VTIMEZONE
TZID:America/Chicago
BEGIN:STANDARD
TZNAME:CST
DTSTART:20231105T020000
TZOFFSETFROM:-0500
TZOFFSETTO:-0600
RDATE:20241103T020000
RDATE:20251102T020000
END:STANDARD
BEGIN:DAYLIGHT
TZNAME:CDT
DTSTART:20240310T020000
TZOFFSETFROM:-0600
TZOFFSETTO:-0500
RDATE:20250309T020000
END:DAYLIGHT
END:VTIMEZONE
BEGIN:VEVENT
UID:d53dfe3c-cd24-4208-b3e8-00b99ad88712
DTSTAMP:20260424T122145Z
DESCRIPTION:
DTSTART;TZID=America/Chicago:20240821T170000
DTEND;TZID=America/Chicago:20240821T190000
LOCATION:Lincoln Ikes Clubhouse\, Trap #2\, & Shotgun Patterning Board
SUMMARY:Trap #2\, Shotgun Patterning Board & Clubhouse Closed for Training 
 Activities
END:VEVENT
END:VCALENDAR
