BEGIN:VCALENDAR
VERSION:2.0
PRODID:-//lincolnikes.com//NONSGML kigkonsult.se iCalcreator 2.30.10//
CALSCALE:GREGORIAN
METHOD:PUBLISH
UID:d1de4475-ca70-4758-b874-a7ea5316ae14
X-WR-CALDESC:
X-WR-RELCALID:c4f560b0d12426885c7d60d2f2782e63
X-WR-TIMEZONE:America/Chicago
BEGIN:VTIMEZONE
TZID:America/Chicago
BEGIN:STANDARD
TZNAME:CST
DTSTART:20231105T020000
TZOFFSETFROM:-0500
TZOFFSETTO:-0600
RDATE:20241103T020000
RDATE:20251102T020000
END:STANDARD
BEGIN:DAYLIGHT
TZNAME:CDT
DTSTART:20240310T020000
TZOFFSETFROM:-0600
TZOFFSETTO:-0500
RDATE:20250309T020000
END:DAYLIGHT
END:VTIMEZONE
BEGIN:VEVENT
UID:25de8493-277d-4cad-82c5-d712bbb377d8
DTSTAMP:20260424T121924Z
DESCRIPTION:
DTSTART;TZID=America/Chicago:20240824T050000
DTEND;TZID=America/Chicago:20240825T050001
LOCATION:10801 South 134th Street\, Bennet\, NE 68317 US
SUMMARY:NBRSA HTR/VFS 2 Gun Benchrest Match (Range 4)
END:VEVENT
END:VCALENDAR
