BEGIN:VCALENDAR
VERSION:2.0
PRODID:-//lincolnikes.com//NONSGML kigkonsult.se iCalcreator 2.30.10//
CALSCALE:GREGORIAN
METHOD:PUBLISH
UID:87906337-bf58-4aa0-bc00-a25f6a0c8c8d
X-WR-CALDESC:
X-WR-RELCALID:050e98ea1292bc80e1a5f4459d2aa76a
X-WR-TIMEZONE:America/Chicago
BEGIN:VTIMEZONE
TZID:America/Chicago
BEGIN:STANDARD
TZNAME:CST
DTSTART:20231105T020000
TZOFFSETFROM:-0500
TZOFFSETTO:-0600
RDATE:20241103T020000
RDATE:20251102T020000
END:STANDARD
BEGIN:DAYLIGHT
TZNAME:CDT
DTSTART:20240310T020000
TZOFFSETFROM:-0600
TZOFFSETTO:-0500
RDATE:20250309T020000
END:DAYLIGHT
END:VTIMEZONE
BEGIN:VEVENT
UID:c200962e-8b77-47d4-8a69-4ae6e6cb2d31
DTSTAMP:20260424T104816Z
DESCRIPTION:
DTSTART;TZID=America/Chicago:20240901T090000
DTEND;TZID=America/Chicago:20240901T130000
LOCATION:Lincoln Ikes Rifle Range 4
SUMMARY:Members 300-Yard Range Practice (Range 4)
END:VEVENT
END:VCALENDAR
