BEGIN:VCALENDAR
VERSION:2.0
PRODID:-//lincolnikes.com//NONSGML kigkonsult.se iCalcreator 2.30.10//
CALSCALE:GREGORIAN
METHOD:PUBLISH
UID:3dba75b5-5b1a-4cde-9049-dfad8ad909a7
X-WR-CALDESC:Participants register through the Nebraska Game and Parks to p
 articipate.
X-WR-RELCALID:7a4d61a940f042685ea8bcf6cd537e05
X-WR-TIMEZONE:America/Chicago
BEGIN:VTIMEZONE
TZID:America/Chicago
BEGIN:STANDARD
TZNAME:CST
DTSTART:20231105T020000
TZOFFSETFROM:-0500
TZOFFSETTO:-0600
RDATE:20241103T020000
RDATE:20251102T020000
END:STANDARD
BEGIN:DAYLIGHT
TZNAME:CDT
DTSTART:20240310T020000
TZOFFSETFROM:-0600
TZOFFSETTO:-0500
RDATE:20250309T020000
END:DAYLIGHT
END:VTIMEZONE
BEGIN:VEVENT
UID:e48a49ea-8add-418c-98c3-867add61226c
DTSTAMP:20260424T105819Z
DESCRIPTION:Participants register through the Nebraska Game and Parks to pa
 rticipate.
DTSTART;TZID=America/Chicago:20240903T173000
DTEND;TZID=America/Chicago:20240903T200000
LOCATION:Lincoln Ikes Range 2 and Clubhouse
SUMMARY:Becoming an Outdoors Woman Hunting Cohort (Nebraska Game & Parks) (
 RANGE 2 CLOSED FOR EVENT FROM 6:15PM-SUNSET)
END:VEVENT
END:VCALENDAR
