BEGIN:VCALENDAR
VERSION:2.0
PRODID:-//lincolnikes.com//NONSGML kigkonsult.se iCalcreator 2.30.10//
CALSCALE:GREGORIAN
METHOD:PUBLISH
UID:28b11a0f-f520-4270-bd6a-3a4eb29bd369
X-WR-CALDESC:
X-WR-RELCALID:e6b358b0e4f54058dd118b695da139c4
X-WR-TIMEZONE:America/Chicago
BEGIN:VTIMEZONE
TZID:America/Chicago
BEGIN:STANDARD
TZNAME:CST
DTSTART:20231105T020000
TZOFFSETFROM:-0500
TZOFFSETTO:-0600
RDATE:20241103T020000
RDATE:20251102T020000
END:STANDARD
BEGIN:DAYLIGHT
TZNAME:CDT
DTSTART:20240310T020000
TZOFFSETFROM:-0600
TZOFFSETTO:-0500
RDATE:20250309T020000
RDATE:20260308T020000
END:DAYLIGHT
END:VTIMEZONE
BEGIN:VEVENT
UID:f86e1fe1-79eb-4e90-a82a-09c83279f29d
DTSTAMP:20260424T105210Z
DESCRIPTION:
DTSTART;TZID=America/Chicago:20240922T080000
DTEND;TZID=America/Chicago:20240922T170000
LOCATION:Lincoln Ikes Rifle Range 4
SUMMARY:IHMSA Handgun Match (Range 4)
END:VEVENT
END:VCALENDAR
