BEGIN:VCALENDAR
VERSION:2.0
PRODID:-//lincolnikes.com//NONSGML kigkonsult.se iCalcreator 2.30.10//
CALSCALE:GREGORIAN
METHOD:PUBLISH
UID:43882254-a422-4e94-b708-fd6d3d2cd2fe
X-WR-CALDESC:
X-WR-RELCALID:8f2f6fb9ffa0731c1fb3994e9dd8a92d
X-WR-TIMEZONE:America/Chicago
BEGIN:VTIMEZONE
TZID:America/Chicago
BEGIN:STANDARD
TZNAME:CST
DTSTART:20231105T020000
TZOFFSETFROM:-0500
TZOFFSETTO:-0600
RDATE:20241103T020000
RDATE:20251102T020000
END:STANDARD
BEGIN:DAYLIGHT
TZNAME:CDT
DTSTART:20240310T020000
TZOFFSETFROM:-0600
TZOFFSETTO:-0500
RDATE:20250309T020000
RDATE:20260308T020000
END:DAYLIGHT
END:VTIMEZONE
BEGIN:VEVENT
UID:a8ad2ce3-9328-4c6c-9886-a718aa7cbbe4
DTSTAMP:20260424T105230Z
DESCRIPTION:
DTSTART;TZID=America/Chicago:20240923T050000
DTEND;TZID=America/Chicago:20240927T050001
LOCATION:10801 South 134th Street\, Bennet\, NE 68317 US
SUMMARY:Rifle/Pistol Range 3 & 4 Closed due to maintenance
END:VEVENT
END:VCALENDAR
