BEGIN:VCALENDAR
VERSION:2.0
PRODID:-//lincolnikes.com//NONSGML kigkonsult.se iCalcreator 2.30.10//
CALSCALE:GREGORIAN
METHOD:PUBLISH
UID:b8764064-e170-4795-bde3-dacfba9196da
X-WR-CALDESC:
X-WR-RELCALID:e4a2434f0076ed01b60236316eab4dd5
X-WR-TIMEZONE:America/Chicago
BEGIN:VTIMEZONE
TZID:America/Chicago
BEGIN:STANDARD
TZNAME:CST
DTSTART:20231105T020000
TZOFFSETFROM:-0500
TZOFFSETTO:-0600
RDATE:20241103T020000
RDATE:20251102T020000
END:STANDARD
BEGIN:DAYLIGHT
TZNAME:CDT
DTSTART:20240310T020000
TZOFFSETFROM:-0600
TZOFFSETTO:-0500
RDATE:20250309T020000
RDATE:20260308T020000
END:DAYLIGHT
END:VTIMEZONE
BEGIN:VEVENT
UID:db183ab2-d488-4c26-986d-5adf89286ffc
DTSTAMP:20260424T105819Z
DESCRIPTION:
DTSTART;TZID=America/Chicago:20240925T190000
DTEND;TZID=America/Chicago:20240925T200000
LOCATION:
SUMMARY:Rifle/Pistol Committee Meeting (Clubhouse - Lonkoski)
END:VEVENT
END:VCALENDAR
