BEGIN:VCALENDAR
VERSION:2.0
PRODID:-//lincolnikes.com//NONSGML kigkonsult.se iCalcreator 2.30.10//
CALSCALE:GREGORIAN
METHOD:PUBLISH
UID:6e2e1e26-6847-4415-805a-7202e101f475
X-WR-CALDESC:*Weather permitting. If we should have some inclement weather\
 , this practice time will be canceled. Feel free to call RSO Bennett to ve
 rify.
X-WR-RELCALID:062b893c6b5ebd3cae12044c2967a60a
X-WR-TIMEZONE:America/Chicago
BEGIN:VTIMEZONE
TZID:America/Chicago
BEGIN:STANDARD
TZNAME:CST
DTSTART:20231105T020000
TZOFFSETFROM:-0500
TZOFFSETTO:-0600
RDATE:20241103T020000
RDATE:20251102T020000
END:STANDARD
BEGIN:DAYLIGHT
TZNAME:CDT
DTSTART:20240310T020000
TZOFFSETFROM:-0600
TZOFFSETTO:-0500
RDATE:20250309T020000
RDATE:20260308T020000
END:DAYLIGHT
END:VTIMEZONE
BEGIN:VEVENT
UID:d62a30e4-14bb-4ac5-b867-cd1bbc678ad5
DTSTAMP:20260424T104924Z
DESCRIPTION:*Weather permitting. If we should have some inclement weather\,
  this practice time will be canceled. Feel free to call RSO Bennett to ver
 ify.
DTSTART;TZID=America/Chicago:20240925T050000
DTEND;TZID=America/Chicago:20240925T050001
LOCATION:Lincoln Ikes Rifle Range 4
SUMMARY:CANCELED DUE TO MAINTENANCE: Range 4 Members Practice (Bennett)
END:VEVENT
END:VCALENDAR
