BEGIN:VCALENDAR
VERSION:2.0
PRODID:-//lincolnikes.com//NONSGML kigkonsult.se iCalcreator 2.30.10//
CALSCALE:GREGORIAN
METHOD:PUBLISH
UID:30a34d47-3f4b-4ef4-9bb4-ad5e8c9ddfe7
X-WR-CALDESC:(Pond & Walking Trail closed during ATA Shoot)
X-WR-RELCALID:a8cbdb8b0f39348bd4e1bd828da78a49
X-WR-TIMEZONE:America/Chicago
BEGIN:VTIMEZONE
TZID:America/Chicago
BEGIN:STANDARD
TZNAME:CST
DTSTART:20231105T020000
TZOFFSETFROM:-0500
TZOFFSETTO:-0600
RDATE:20241103T020000
RDATE:20251102T020000
END:STANDARD
BEGIN:DAYLIGHT
TZNAME:CDT
DTSTART:20240310T020000
TZOFFSETFROM:-0600
TZOFFSETTO:-0500
RDATE:20250309T020000
RDATE:20260308T020000
END:DAYLIGHT
END:VTIMEZONE
BEGIN:VEVENT
UID:68069014-e7ce-473c-a746-a37407bd8859
DTSTAMP:20260424T105237Z
DESCRIPTION:(Pond & Walking Trail closed during ATA Shoot)
DTSTART;TZID=America/Chicago:20240929T050000
DTEND;TZID=America/Chicago:20240929T050001
LOCATION:10801 South 134th Street\, Bennet\, NE 68317 US
SUMMARY:ATA Trap Shoot (Clubhouse & Trap Range)
END:VEVENT
END:VCALENDAR
