BEGIN:VCALENDAR
VERSION:2.0
PRODID:-//lincolnikes.com//NONSGML kigkonsult.se iCalcreator 2.30.10//
CALSCALE:GREGORIAN
METHOD:PUBLISH
UID:b7de8fba-3ec3-49af-8e8c-44eb1462954a
X-WR-CALDESC:
X-WR-RELCALID:3a646b95608c2812a7ddd240ea3a0628
X-WR-TIMEZONE:America/Chicago
BEGIN:VTIMEZONE
TZID:America/Chicago
BEGIN:STANDARD
TZNAME:CST
DTSTART:20231105T020000
TZOFFSETFROM:-0500
TZOFFSETTO:-0600
RDATE:20241103T020000
RDATE:20251102T020000
END:STANDARD
BEGIN:DAYLIGHT
TZNAME:CDT
DTSTART:20240310T020000
TZOFFSETFROM:-0600
TZOFFSETTO:-0500
RDATE:20250309T020000
RDATE:20260308T020000
END:DAYLIGHT
END:VTIMEZONE
BEGIN:VEVENT
UID:6579fd36-4064-4ee7-ab1e-ae3edc369a8f
DTSTAMP:20260424T090811Z
DESCRIPTION:
DTSTART;TZID=America/Chicago:20241008T170000
DTEND;TZID=America/Chicago:20241008T190000
LOCATION:Rifle Range 4 & CRP Area
SUMMARY:Rifle Range 4 & CRP Area Closed for Training Activity
END:VEVENT
END:VCALENDAR
