BEGIN:VCALENDAR
VERSION:2.0
PRODID:-//lincolnikes.com//NONSGML kigkonsult.se iCalcreator 2.30.10//
CALSCALE:GREGORIAN
METHOD:PUBLISH
UID:2c21bf6d-8d31-4545-9c5e-dcaf63b83f7f
X-WR-CALDESC:
X-WR-RELCALID:bd1db7b5507af3bb9d9a8d63eb4b305f
X-WR-TIMEZONE:America/Chicago
BEGIN:VTIMEZONE
TZID:America/Chicago
BEGIN:STANDARD
TZNAME:CST
DTSTART:20231105T020000
TZOFFSETFROM:-0500
TZOFFSETTO:-0600
RDATE:20241103T020000
RDATE:20251102T020000
END:STANDARD
BEGIN:DAYLIGHT
TZNAME:CDT
DTSTART:20240310T020000
TZOFFSETFROM:-0600
TZOFFSETTO:-0500
RDATE:20250309T020000
RDATE:20260308T020000
END:DAYLIGHT
END:VTIMEZONE
BEGIN:VEVENT
UID:daa2698e-ed65-45ba-b1ca-6ca6b4e45293
DTSTAMP:20260424T090755Z
DESCRIPTION:
DTSTART;TZID=America/Chicago:20241009T170000
DTEND;TZID=America/Chicago:20241009T190000
LOCATION:Rifle Range 4 & CRP Area
SUMMARY:Rifle Range 4 & CRP Area Closed for Training Activity
END:VEVENT
END:VCALENDAR
